BEGIN:VCALENDAR
VERSION:2.0
PRODID:-//Apple Inc.//Mac OS X 10.14.6//EN
CALSCALE:GREGORIAN
BEGIN:VTIMEZONE
TZID:Australia/Melbourne
BEGIN:STANDARD
TZOFFSETFROM:+1100
RRULE:FREQ=YEARLY;BYMONTH=4;BYDAY=1SU
DTSTART:20080406T030000
TZNAME:GMT+10
TZOFFSETTO:+1000
END:STANDARD
BEGIN:DAYLIGHT
TZOFFSETFROM:+1000
RRULE:FREQ=YEARLY;BYMONTH=10;BYDAY=1SU
DTSTART:20081005T020000
TZNAME:GMT+11
TZOFFSETTO:+1100
END:DAYLIGHT
END:VTIMEZONE
BEGIN:VEVENT
TRANSP:OPAQUE
DTEND;TZID=Australia/Melbourne:20191117T210000
UID:7m76itejol91g7ssfaod5o72t2@google.com
DTSTAMP:20190926T064051Z
LOCATION:13 Argyle Pl N\, Carlton VIC 3053\, Australia
DESCRIPTION:Melbourne Italian Festa is a platform where past and present
  Italian traditions and culture are brought within to reach the fabric t
 hat is multicultural Melbourne.\n\nIt will be a community day filled wit
 h activities\, entertainment\, food\, fun and all Italian things!
STATUS:CONFIRMED
SEQUENCE:0
SUMMARY:Melbourne Italian Festa 2019
LAST-MODIFIED:20190926T064051Z
DTSTART;TZID=Australia/Melbourne:20191117T090000
CREATED:20190926T064051Z
X-APPLE-TRAVEL-ADVISORY-BEHAVIOR:AUTOMATIC
BEGIN:VALARM
X-WR-ALARMUID:454749D5-387B-4FC2-B49F-3BBDB600F618
UID:454749D5-387B-4FC2-B49F-3BBDB600F618
TRIGGER;VALUE=DATE-TIME:19760401T005545Z
X-APPLE-LOCAL-DEFAULT-ALARM:TRUE
ACTION:NONE
END:VALARM
BEGIN:VALARM
X-WR-ALARMUID:C563C6B5-4CE5-43F8-BB65-C70427003027
UID:C563C6B5-4CE5-43F8-BB65-C70427003027
TRIGGER:-PT15M
X-APPLE-DEFAULT-ALARM:TRUE
ATTACH;VALUE=URI:Chord
ACTION:AUDIO
END:VALARM
BEGIN:VALARM
X-WR-ALARMUID:FD6E5F46-F85B-4699-A7DE-0C39AA90D251
UID:FD6E5F46-F85B-4699-A7DE-0C39AA90D251
TRIGGER:-PT30M
DESCRIPTION:This is an event reminder
ACTION:DISPLAY
END:VALARM
END:VEVENT
END:VCALENDAR
